Workbook

Sheet Montag
A1: Leipziger Verlags- und Druckereigesellschaft mbH & Co. KG
A2: VIVA Programm-Steuerdaten
A3: Versanddaten
C5: Erscheinungstag
C7: Tag | E7: Mon. | G7: Jahr | I7: WT
C8: 3 | D8: 0 | E8: 1 | F8: 0 | G8: 2 | H8: 3 | I8: M | J8: o
C10: Wochentags-ID | H10: 1-6 | J10: 1
U13: Zahl für Paketermittlung | V13: VIVA | W13: VIVA
S14: Zeitungs- | T14: Beilagen | U14: Gesamt- | V14: Stückzahl | W14: Gewicht | X14: Gewicht | Y14: Paketgewicht
Q15: Ausgabe | S15: umfänge | T15: umfänge | U15: umfänge | V15: je Vollpaket | W15: Zeitungen ohne ES Beilagen | X15: Zeitungen inkl. VP + Beilagen | Y15: Zeitungen inkl. VP+Beilagen
C16: Hinweise: | S16: (Seiten) | T16: (Seiten) | U16: (Seiten) | W16: (gerundet, in g) | X16: (gerundet, in g) | Y16: (in kg)
P17: 1010 - City | S17: 28 | T17: 0 | U17: =T17+S17 -> 28 | V17: 20 | W17: =S17*4.02 -> 112.56 | X17: 426 | Y17: =(X17*V17)/1000 -> 8.52
P18: 1120 - BOG | S18: 28 | T18: 0 | U18: =T18+S18 -> 28 | V18: 20 | W18: =S18*4.02 -> 112.56 | X18: 396 | Y18: =(X18*V18)/1000 -> 7.92
P19: 1200 - DZE | S19: 28 | T19: 0 | U19: =T19+S19 -> 28 | V19: 20 | W19: =S19*4.02 -> 112.56 | X19: 450 | Y19: =(X19*V19)/1000 -> 9
P20: 1210 - MTK | S20: 28 | T20: 0 | U20: =T20+S20 -> 28 | V20: 20 | W20: =S20*4.02 -> 112.56 | X20: 458 | Y20: =(X20*V20)/1000 -> 9.16
P21: 2220 - OAZ | S21: 28 | T21: 0 | U21: 28 | V21: 30 | W21: 113 | X21: 221 | Y21: =(X21*V21)/1000 -> 6.63
P22: 2230 - DAZ | S22: 28 | T22: 0 | U22: 28 | V22: 30 | W22: 113 | X22: 221 | Y22: =(X22*V22)/1000 -> 6.63
P23: 2240 - OVZ | S23: 28 | T23: 0 | U23: 28 | V23: 20 | W23: 113 | X23: 371 | Y23: =(X23*V23)/1000 -> 7.42
P24: 2260 - TZ | S24: 28 | T24: 0 | U24: 28 | V24: 30 | W24: 113 | X24: 221 | Y24: =(X24*V24)/1000 -> 6.63
C26: Ausgestellt: | L26: Datum/Zeichen | U26: Erfaßt: | W26: Datum/Zeichen
U27: C. Negro | W27: 45225

Sheet Dienstag
A1: Leipziger Verlags- und Druckereigesellschaft mbH & Co. KG
A2: VIVA Programm-Steuerdaten
A3: Versanddaten
C5: Erscheinungstag
C7: Tag | E7: Mon. | G7: Jahr | I7: WT
C8: 3 | D8: 1 | E8: 1 | F8: 0 | G8: 2 | H8: 3 | I8: D | J8: i | T8: FEIERTAG!
C10: Wochentags-ID | H10: 1-6 | J10: 2
U13: Zahl für Paketermittlung | V13: VIVA | W13: VIVA
S14: Zeitungs- | T14: Beilagen | U14: Gesamt- | V14: Stückzahl | W14: Gewicht | X14: Gewicht | Y14: Paketgewicht
Q15: Ausgabe | S15: umfänge | T15: umfänge | U15: umfänge | V15: je Vollpaket | W15: Zeitungen ohne ES Beilagen | X15: Zeitungen inkl. VP + Beilagen | Y15: Zeitungen inkl. VP+Beilagen
C16: Hinweise: | S16: (Seiten) | T16: (Seiten) | U16: (Seiten) | W16: (gerundet, in g) | X16: (gerundet, in g) | Y16: (in kg)
P17: 1010 - City | S17: 28 | T17: 0 | U17: =T17+S17 -> 28 | V17: 30 | W17: =S17*4.02 -> 112.56 | X17: 0 | Y17: =(X17*V17)/1000 -> 0
P18: 1120 - BOG | S18: 28 | T18: 0 | U18: =T18+S18 -> 28 | V18: 30 | W18: =S18*4.02 -> 112.56 | X18: 0 | Y18: =(X18*V18)/1000 -> 0
P19: 1200 - DZE | S19: 28 | T19: 0 | U19: =T19+S19 -> 28 | V19: 30 | W19: =S19*4.02 -> 112.56 | X19: 0 | Y19: =(X19*V19)/1000 -> 0
P20: 1210 - MTK | S20: 28 | T20: 0 | U20: =T20+S20 -> 28 | V20: 30 | W20: =S20*4.02 -> 112.56 | X20: 0 | Y20: =(X20*V20)/1000 -> 0
P21: 2220 - OAZ | S21: 24 | T21: 0 | U21: 24 | V21: 30 | W21: =S21*4.02 -> 96.48 | X21: 0 | Y21: =(X21*V21)/1000 -> 0
P22: 2230 - DAZ | S22: 24 | T22: 0 | U22: 24 | V22: 30 | W22: =S22*4.02 -> 96.48 | X22: 0 | Y22: =(X22*V22)/1000 -> 0
P23: 2240 - OVZ | S23: 24 | T23: 0 | U23: 24 | V23: 30 | W23: =S23*4.02 -> 96.48 | X23: 0 | Y23: =(X23*V23)/1000 -> 0
P24: 2260 - TZ | S24: 24 | T24: 0 | U24: 24 | V24: 30 | W24: =S24*4.02 -> 96.48 | X24: 0 | Y24: =(X24*V24)/1000 -> 0
C26: Ausgestellt: | L26: Datum/Zeichen | U26: Erfaßt: | W26: Datum/Zeichen
U27: =Montag!U27 -> C. Negro | W27: =Montag!W27 -> 45225

Sheet Mittwoch
A1: Leipziger Verlags- und Druckereigesellschaft mbH & Co. KG
A2: VIVA Programm-Steuerdaten
A3: Versanddaten
C5: Erscheinungstag
C7: Tag | E7: Mon. | G7: Jahr | I7: WT
C8: 0 | D8: 1 | E8: 1 | F8: 1 | G8: 2 | H8: 3 | I8: M | J8: i
C10: Wochentags-ID | H10: 1-6 | J10: 4
U13: Zahl für Paketermittlung | V13: VIVA | W13: VIVA
S14: Zeitungs- | T14: Beilagen | U14: Gesamt- | V14: Stückzahl | W14: Gewicht | X14: Gewicht | Y14: Paketgewicht
Q15: Ausgabe | S15: umfänge | T15: umfänge | U15: umfänge | V15: je Vollpaket | W15: Zeitungen ohne ES Beilagen | X15: Zeitungen inkl. VP + Beilagen | Y15: Zeitungen inkl. VP+Beilagen
C16: Hinweise: | S16: (Seiten) | T16: (Seiten) | U16: (Seiten) | W16: (gerundet, in g) | X16: (gerundet, in g) | Y16: (in kg)
P17: 1010 - City | S17: 28 | T17: 0 | U17: =T17+S17 -> 28 | V17: 50 | W17: =S17*4.02 -> 112.56 | X17: 155 | Y17: =(X17*V17)/1000 -> 7.75
P18: 1120 - BOG | S18: 28 | T18: 0 | U18: =T18+S18 -> 28 | V18: 40 | W18: =S18*4.02 -> 112.56 | X18: 189 | Y18: =(X18*V18)/1000 -> 7.56
P19: 1200 - DZE | S19: 28 | T19: 0 | U19: =T19+S19 -> 28 | V19: 50 | W19: =S19*4.02 -> 112.56 | X19: 152 | Y19: =(X19*V19)/1000 -> 7.6
P20: 1210 - MTK | S20: 28 | T20: 0 | U20: =T20+S20 -> 28 | V20: 40 | W20: =S20*4.02 -> 112.56 | X20: 183 | Y20: =(X20*V20)/1000 -> 7.32
P21: 2220 - OAZ | S21: 24 | T21: 0 | U21: =T21+S21 -> 24 | V21: 60 | W21: =S21*4.02 -> 96.48 | X21: 111 | Y21: =(X21*V21)/1000 -> 6.66
P22: 2230 - DAZ | S22: 24 | T22: 0 | U22: =S22+T22 -> 24 | V22: 60 | W22: =S22*4.02 -> 96.48 | X22: 111 | Y22: =(X22*V22)/1000 -> 6.66
P23: 2240 - OVZ | S23: 24 | T23: 0 | U23: =T23+S23 -> 24 | V23: 60 | W23: =S23*4.02 -> 96.48 | X23: 124 | Y23: =(X23*V23)/1000 -> 7.44
P24: 2260 - TZ | S24: 24 | T24: 0 | U24: =T24+S24 -> 24 | V24: 60 | W24: =S24*4.02 -> 96.48 | X24: 111 | Y24: =(X24*V24)/1000 -> 6.66
C26: Ausgestellt: | L26: Datum/Zeichen | U26: Erfaßt: | W26: Datum/Zeichen
U27: =Montag!U27 -> C. Negro | W27: =Montag!W27 -> 45225

Sheet Donnerstag
A1: Leipziger Verlags- und Druckereigesellschaft mbH & Co. KG
A2: VIVA Programm-Steuerdaten
A3: Versanddaten
C5: Erscheinungstag
C7: Tag | E7: Mon. | G7: Jahr | I7: WT
C8: 0 | D8: 2 | E8: 1 | F8: 1 | G8: 2 | H8: 3 | I8: D | J8: o
C10: Wochentags-ID | H10: 1-6 | J10: 4
U13: Zahl für Paketermittlung | V13: VIVA | W13: VIVA
S14: Zeitungs- | T14: Beilagen | U14: Gesamt- | V14: Stückzahl | W14: Gewicht | X14: Gewicht | Y14: Paketgewicht
Q15: Ausgabe | S15: umfänge | T15: umfänge | U15: umfänge | V15: je Vollpaket | W15: Zeitungen ohne ES Beilagen | X15: Zeitungen inkl. VP + Beilagen | Y15: Zeitungen inkl. VP+Beilagen
C16: Hinweise: | S16: (Seiten) | T16: (Seiten) | U16: (Seiten) | W16: (gerundet, in g) | X16: (gerundet, in g) | Y16: (in kg)
P17: 1010 - City | S17: 28 | T17: 0 | U17: =T17+S17 -> 28 | V17: 50 | W17: =S17*4.02 -> 112.56 | X17: 139 | Y17: =(X17*V17)/1000 -> 6.95
P18: 1120 - BOG | S18: 28 | T18: 0 | U18: =T18+S18 -> 28 | V18: 50 | W18: =S18*4.02 -> 112.56 | X18: 137 | Y18: =(X18*V18)/1000 -> 6.85
P19: 1200 - DZE | S19: 28 | T19: 0 | U19: =T19+S19 -> 28 | V19: 40 | W19: =S19*4.02 -> 112.56 | X19: 159 | Y19: =(X19*V19)/1000 -> 6.36
P20: 1210 - MTK | S20: 28 | T20: 0 | U20: =T20+S20 -> 28 | V20: 40 | W20: =S20*4.02 -> 112.56 | X20: 167 | Y20: =(X20*V20)/1000 -> 6.68
P21: 2220 - OAZ | S21: 24 | T21: 0 | U21: 24 | V21: 80 | W21: 96 | X21: 96 | Y21: =(X21*V21)/1000 -> 7.68
P22: 2230 - DAZ | S22: 24 | T22: 0 | U22: 24 | V22: 80 | W22: 96 | X22: 96 | Y22: =(X22*V22)/1000 -> 7.68
P23: 2240 - OVZ | S23: 24 | T23: 0 | U23: 24 | V23: 80 | W23: 96 | X23: 96 | Y23: =(X23*V23)/1000 -> 7.68
P24: 2260 - TZ | S24: 24 | T24: 0 | U24: 24 | V24: 80 | W24: 96 | X24: 96 | Y24: =(X24*V24)/1000 -> 7.68
C26: Ausgestellt: | L26: Datum/Zeichen | U26: Erfaßt: | W26: Datum/Zeichen
U27: =Montag!U27 -> C. Negro | W27: =Montag!W27 -> 45225

Sheet Freitag
A1: Leipziger Verlags- und Druckereigesellschaft mbH & Co. KG
A2: VIVA Programm-Steuerdaten
A3: Versanddaten
C5: Erscheinungstag
C7: Tag | E7: Mon. | G7: Jahr | I7: WT
C8: 0 | D8: 3 | E8: 1 | F8: 1 | G8: 2 | H8: 3 | I8: F | J8: r
C10: Wochentags-ID | H10: 1-6 | J10: 5
U13: Zahl für Paketermittlung | V13: VIVA | W13: VIVA
S14: Zeitungs- | T14: Beilagen | U14: Gesamt- | V14: Stückzahl | W14: Gewicht | X14: Gewicht | Y14: Paketgewicht
Q15: Ausgabe | S15: umfänge | T15: umfänge | U15: umfänge | V15: je Vollpaket | W15: Zeitungen ohne ES Beilagen | X15: Zeitungen inkl. VP + Beilagen | Y15: Zeitungen inkl. VP+Beilagen
C16: Hinweise: | S16: (Seiten) | T16: (Seiten) | U16: (Seiten) | W16: (gerundet, in g) | X16: (gerundet, in g) | Y16: (in kg)
P17: 1010 - City | S17: 32 | T17: 0 | U17: =T17+S17 -> 32 | V17: 40 | W17: =S17*4.02 -> 128.64 | X17: 159 | Y17: =(X17*V17)/1000 -> 6.36
P18: 1120 - BOG | S18: 32 | T18: 0 | U18: =T18+S18 -> 32 | V18: 50 | W18: =S18*4.02 -> 128.64 | X18: 153 | Y18: =(X18*V18)/1000 -> 7.65
P19: 1200 - DZE | S19: 32 | T19: 0 | U19: =T19+S19 -> 32 | V19: 50 | W19: =S19*4.02 -> 128.64 | X19: 153 | Y19: =(X19*V19)/1000 -> 7.65
P20: 1210 - MTK | S20: 32 | T20: 0 | U20: =T20+S20 -> 32 | V20: 40 | W20: =S20*4.02 -> 128.64 | X20: 191 | Y20: =(X20*V20)/1000 -> 7.64
P21: 2220 - OAZ | S21: 28 | T21: 0 | U21: 28 | V21: 60 | W21: =S21*4.02 -> 112.56 | X21: 112 | Y21: =(X21*V21)/1000 -> 6.72
P22: 2230 - DAZ | S22: 28 | T22: 0 | U22: 28 | V22: 50 | W22: =S22*4.02 -> 112.56 | X22: 142 | Y22: =(X22*V22)/1000 -> 7.1
P23: 2240 - OVZ | S23: 28 | T23: 0 | U23: 28 | V23: 60 | W23: =S23*4.02 -> 112.56 | X23: 112 | Y23: =(X23*V23)/1000 -> 6.72
P24: 2260 - TZ | S24: 28 | T24: 0 | U24: 28 | V24: 60 | W24: =S24*4.02 -> 112.56 | X24: 112 | Y24: =(X24*V24)/1000 -> 6.72
C26: Ausgestellt: | L26: Datum/Zeichen | U26: Erfaßt: | W26: Datum/Zeichen
U27: =Montag!U27 -> C. Negro | W27: =Montag!W27 -> 45225
W39: ,

Sheet Samstag
A1: Leipziger Verlags- und Druckereigesellschaft mbH & Co. KG
A2: VIVA Programm-Steuerdaten
A3: Versanddaten
C5: Erscheinungstag
C7: Tag | E7: Mon. | G7: Jahr | I7: WT
C8: 0 | D8: 4 | E8: 1 | F8: 1 | G8: 2 | H8: 3 | I8: S | J8: a
C10: Wochentags-ID | H10: 1-6 | J10: 6
U13: Zahl für Paketermittlung | V13: VIVA | W13: VIVA
S14: Zeitungs- | T14: Beilagen | U14: Gesamt- | V14: Stückzahl | W14: Gewicht | X14: Gewicht | Y14: Paketgewicht
Q15: Ausgabe | S15: umfänge | T15: umfänge | U15: umfänge | V15: je Vollpaket | W15: Zeitungen ohne ES Beilagen | X15: Zeitungen inkl. VP + Beilagen | Y15: Zeitungen inkl. VP+Beilagen
C16: Hinweise: | S16: (Seiten) | T16: (Seiten) | U16: (Seiten) | W16: (gerundet, in g) | X16: (gerundet, in g) | Y16: (in kg)
P17: 1010 - City | S17: 32 | T17: 0 | U17: =T17+S17 -> 32 | V17: 25 | W17: =S17*4.02 -> 128.64 | X17: 268 | Y17: =(X17*V17)/1000 -> 6.7
P18: 1120 - BOG | S18: 32 | T18: 0 | U18: =T18+S18 -> 32 | V18: 25 | W18: =S18*4.02 -> 128.64 | X18: 292 | Y18: =(X18*V18)/1000 -> 7.3
P19: 1200 - DZE | S19: 32 | T19: 0 | U19: =T19+S19 -> 32 | V19: 25 | W19: =S19*4.02 -> 128.64 | X19: 292 | Y19: =(X19*V19)/1000 -> 7.3
P20: 1210 - MTK | S20: 32 | T20: 0 | U20: =T20+S20 -> 32 | V20: 25 | W20: =S20*4.02 -> 128.64 | X20: 304 | Y20: =(X20*V20)/1000 -> 7.6
P21: 2220 - OAZ | S21: 32 | T21: 0 | U21: =T21+S21 -> 32 | V21: 30 | W21: =S21*4.02 -> 128.64 | X21: 236 | Y21: =(X21*V21)/1000 -> 7.08
P22: 2230 - DAZ | S22: 32 | T22: 0 | U22: =S22+T22 -> 32 | V22: 30 | W22: =S22*4.02 -> 128.64 | X22: 208 | Y22: =(X22*V22)/1000 -> 6.24
P23: 2240 - OVZ | S23: 32 | T23: 0 | U23: =T23+S23 -> 32 | V23: 30 | W23: =S23*4.02 -> 128.64 | X23: 236 | Y23: =(X23*V23)/1000 -> 7.08
P24: 2260 - TZ | S24: 32 | T24: 0 | U24: =T24+S24 -> 32 | V24: 30 | W24: =S24*4.02 -> 128.64 | X24: 204 | Y24: =(X24*V24)/1000 -> 6.12
C26: Ausgestellt: | L26: Datum/Zeichen | U26: Erfaßt: | W26: Datum/Zeichen
U27: =Montag!U27 -> C. Negro | W27: =Montag!W27 -> 45225
